BEGIN:VCALENDAR
VERSION:2.0
PRODID:-//Bürgerbeteiligung Berg e.V. - ECPv6.15.19//NONSGML v1.0//EN
CALSCALE:GREGORIAN
METHOD:PUBLISH
X-WR-CALNAME:Bürgerbeteiligung Berg e.V.
X-ORIGINAL-URL:https://www.buergerbeteiligung-berg.de
X-WR-CALDESC:Veranstaltungen für Bürgerbeteiligung Berg e.V.
REFRESH-INTERVAL;VALUE=DURATION:PT1H
X-Robots-Tag:noindex
X-PUBLISHED-TTL:PT1H
BEGIN:VTIMEZONE
TZID:Europe/Berlin
BEGIN:DAYLIGHT
TZOFFSETFROM:+0100
TZOFFSETTO:+0200
TZNAME:CEST
DTSTART:20250330T010000
END:DAYLIGHT
BEGIN:STANDARD
TZOFFSETFROM:+0200
TZOFFSETTO:+0100
TZNAME:CET
DTSTART:20251026T010000
END:STANDARD
BEGIN:DAYLIGHT
TZOFFSETFROM:+0100
TZOFFSETTO:+0200
TZNAME:CEST
DTSTART:20260329T010000
END:DAYLIGHT
BEGIN:STANDARD
TZOFFSETFROM:+0200
TZOFFSETTO:+0100
TZNAME:CET
DTSTART:20261025T010000
END:STANDARD
BEGIN:DAYLIGHT
TZOFFSETFROM:+0100
TZOFFSETTO:+0200
TZNAME:CEST
DTSTART:20270328T010000
END:DAYLIGHT
BEGIN:STANDARD
TZOFFSETFROM:+0200
TZOFFSETTO:+0100
TZNAME:CET
DTSTART:20271031T010000
END:STANDARD
END:VTIMEZONE
BEGIN:VEVENT
DTSTART;TZID=Europe/Berlin:20260502T140000
DTEND;TZID=Europe/Berlin:20260502T170000
DTSTAMP:20260424T182103
CREATED:20260311T135047Z
LAST-MODIFIED:20260420T115725Z
UID:19248-1777730400-1777741200@www.buergerbeteiligung-berg.de
SUMMARY:Nisthilfen basteln für Wildbienen!
DESCRIPTION:Nisthilfen basteln für Wildbienen! \nWildbienen sind die heimlichen Helden unseres Ökosystems. Als unverzichtbare Bestäuber leisten sie einen gigantischen Beitrag für unsere Natur. Doch ihr Lebensraum schwindet und das Angebot an natürlichen Nistplätzen wird immer knapper – oft von uns unbemerkt. \nWir setzen gemeinsam ein Zeichen! Der Bund Naturschutz lädt in Zusammenarbeit mit der Bürgerbeteiligung Berg interessierte 13- bis 15-Jährige ein\, aktiv zu werden. Wir bauen Nisthilfen\, um die Wohnungsnot unserer kleinen Helfer zu lindern. \nWann & Wo? \n\nDatum: 2. Mai\nZeit: 14:00 Uhr\nOrt: Ehemaliger Müllers auf der Lüften in Farchach\n\nSchenk den Wildbienen ein neues Zuhause und leiste einen echten Beitrag zum Naturschutz direkt vor der Haustür. Sei dabei und werde zum Bienen-Retter! \nAnmeldung bitte bis spätestens 30. April an BN-Berg@gmx.de \n \n 
URL:https://www.buergerbeteiligung-berg.de/veranstaltung/nisthilfen-basteln-fuer-wildbienen
LOCATION:Müllers auf der Lüften\, Jägerberg 20\, Berg / Farchach\, 82335\, Deutschland
CATEGORIES:AG Artenschutz & Blühflächen
END:VEVENT
END:VCALENDAR