BEGIN:VCALENDAR
VERSION:2.0
PRODID:-//Bürgerbeteiligung Berg e.V. - ECPv6.15.19//NONSGML v1.0//EN
CALSCALE:GREGORIAN
METHOD:PUBLISH
X-WR-CALNAME:Bürgerbeteiligung Berg e.V.
X-ORIGINAL-URL:https://www.buergerbeteiligung-berg.de
X-WR-CALDESC:Veranstaltungen für Bürgerbeteiligung Berg e.V.
REFRESH-INTERVAL;VALUE=DURATION:PT1H
X-Robots-Tag:noindex
X-PUBLISHED-TTL:PT1H
BEGIN:VTIMEZONE
TZID:Europe/Berlin
BEGIN:DAYLIGHT
TZOFFSETFROM:+0100
TZOFFSETTO:+0200
TZNAME:CEST
DTSTART:20240331T010000
END:DAYLIGHT
BEGIN:STANDARD
TZOFFSETFROM:+0200
TZOFFSETTO:+0100
TZNAME:CET
DTSTART:20241027T010000
END:STANDARD
BEGIN:DAYLIGHT
TZOFFSETFROM:+0100
TZOFFSETTO:+0200
TZNAME:CEST
DTSTART:20250330T010000
END:DAYLIGHT
BEGIN:STANDARD
TZOFFSETFROM:+0200
TZOFFSETTO:+0100
TZNAME:CET
DTSTART:20251026T010000
END:STANDARD
BEGIN:DAYLIGHT
TZOFFSETFROM:+0100
TZOFFSETTO:+0200
TZNAME:CEST
DTSTART:20260329T010000
END:DAYLIGHT
BEGIN:STANDARD
TZOFFSETFROM:+0200
TZOFFSETTO:+0100
TZNAME:CET
DTSTART:20261025T010000
END:STANDARD
BEGIN:DAYLIGHT
TZOFFSETFROM:+0100
TZOFFSETTO:+0200
TZNAME:CEST
DTSTART:20270328T010000
END:DAYLIGHT
BEGIN:STANDARD
TZOFFSETFROM:+0200
TZOFFSETTO:+0100
TZNAME:CET
DTSTART:20271031T010000
END:STANDARD
END:VTIMEZONE
BEGIN:VEVENT
DTSTART;TZID=Europe/Berlin:20260423T200000
DTEND;TZID=Europe/Berlin:20260423T220000
DTSTAMP:20260424T182316
CREATED:20260415T204345Z
LAST-MODIFIED:20260415T204345Z
UID:19400-1776974400-1776981600@www.buergerbeteiligung-berg.de
SUMMARY:Bürgerversammlung
DESCRIPTION:Einladung zur Bürgerversammlung 2026 der Gemeinde Berg. \n 
URL:https://www.buergerbeteiligung-berg.de/veranstaltung/buergerversammlung
LOCATION:Rathaus Berg\, Huberfeld 10\, Berg\, 82335
END:VEVENT
BEGIN:VEVENT
DTSTART;TZID=Europe/Berlin:20260420T193000
DTEND;TZID=Europe/Berlin:20260420T213000
DTSTAMP:20260424T182316
CREATED:20260417T122000Z
LAST-MODIFIED:20260417T122051Z
UID:19408-1776713400-1776720600@www.buergerbeteiligung-berg.de
SUMMARY:FairTrade Gruppentreffen
DESCRIPTION:Treffen – FairTrade Gruppe \nDatum: Montag\, 20. April 2026 \nUhrzeit: 19:30 Uhr \nOrt: Post in Aufkirchen \nAlle Interessierten sind herzlich eingeladen. \n 
URL:https://www.buergerbeteiligung-berg.de/veranstaltung/fairtrade-gruppentreffen
LOCATION:Gasthof zur Post Aufkirchen\, Marienstraße Aufkirchen\, Berg\, 82335\, Germany
END:VEVENT
BEGIN:VEVENT
DTSTART;TZID=Europe/Berlin:20260420T190000
DTEND;TZID=Europe/Berlin:20260420T210000
DTSTAMP:20260424T182316
CREATED:20260313T095349Z
LAST-MODIFIED:20260313T095349Z
UID:19270-1776711600-1776718800@www.buergerbeteiligung-berg.de
SUMMARY:Stammtisch Helferkreis Asyl und Integration
DESCRIPTION:Stammtisch – Helferkreis Asyl und Integration \nDatum: Montag\, 20. April 2026 \nUhrzeit: 19:00 Uhr \nOrt: Stüberl in der Post in Aufkirchen \nAlle Helfer und alle Interessierten sind herzlich eingeladen.
URL:https://www.buergerbeteiligung-berg.de/veranstaltung/stammtisch-helferkreis-asyl-und-integration
LOCATION:Gasthof zur Post Aufkirchen\, Marienstraße Aufkirchen\, Berg\, 82335\, Germany
CATEGORIES:AG Helferkreis Asyl und Integration
ORGANIZER;CN="Helferkreis Asyl und Integration Berg":MAILTO:kontakt@asyl-in-berg.de
END:VEVENT
BEGIN:VEVENT
DTSTART;TZID=Europe/Berlin:20260418T090000
DTEND;TZID=Europe/Berlin:20260418T120000
DTSTAMP:20260424T182316
CREATED:20260401T165921Z
LAST-MODIFIED:20260401T170021Z
UID:19341-1776502800-1776513600@www.buergerbeteiligung-berg.de
SUMMARY:Ramadama 2026
DESCRIPTION:Die Bürgerbeteiligung Berg bittet um rege Teilnahme: \nAlt und Jung\, pack‘ ma’s – Auch dieses Jahr wieder rufen die Feuerwehren zum Ramadama auf\, um unsere Gemeinde sauberer und damit schöner zu machen. \n \n  \nOrt und Zeit \nTermin: Freitag\, 18. Apr 2026 – 9:00 – 12:00 \nOrt: bei allen Feuerwehren in der Gemeinde
URL:https://www.buergerbeteiligung-berg.de/veranstaltung/ramadama-2026
LOCATION:Überall
CATEGORIES:AG Gemeinsames, aktives Dorfleben
END:VEVENT
BEGIN:VEVENT
DTSTART;TZID=Europe/Berlin:20260417T170000
DTEND;TZID=Europe/Berlin:20260417T190000
DTSTAMP:20260424T182316
CREATED:20260401T195157Z
LAST-MODIFIED:20260401T195157Z
UID:19346-1776445200-1776452400@www.buergerbeteiligung-berg.de
SUMMARY:Berger Sprachcafé
DESCRIPTION:
URL:https://www.buergerbeteiligung-berg.de/veranstaltung/berger-sprachcafe-8
LOCATION:Wohnzentrum Etztal\, Perchastraße 11\, Berg\, 82335
CATEGORIES:AG Helferkreis Asyl und Integration
ORGANIZER;CN="Helferkreis Asyl und Integration Berg":MAILTO:kontakt@asyl-in-berg.de
END:VEVENT
BEGIN:VEVENT
DTSTART;TZID=Europe/Berlin:20260410T170000
DTEND;TZID=Europe/Berlin:20260410T190000
DTSTAMP:20260424T182316
CREATED:20260322T110756Z
LAST-MODIFIED:20260322T110847Z
UID:19301-1775840400-1775847600@www.buergerbeteiligung-berg.de
SUMMARY:Berger Sprachcafé
DESCRIPTION:
URL:https://www.buergerbeteiligung-berg.de/veranstaltung/berger-sprachcafe-6
LOCATION:Wohnzentrum Etztal\, Perchastraße 11\, Berg\, 82335
CATEGORIES:AG Helferkreis Asyl und Integration
ORGANIZER;CN="Helferkreis Asyl und Integration Berg":MAILTO:kontakt@asyl-in-berg.de
END:VEVENT
BEGIN:VEVENT
DTSTART;TZID=Europe/Berlin:20260327T190000
DTEND;TZID=Europe/Berlin:20260327T210000
DTSTAMP:20260424T182316
CREATED:20260317T090015Z
LAST-MODIFIED:20260317T091946Z
UID:19281-1774638000-1774645200@www.buergerbeteiligung-berg.de
SUMMARY:Film: Kein Land für Niemand
DESCRIPTION:Der Helferkreis Asyl und Integration empfiehlt: \nFilmvorführung „Kein Land für Niemand“ mit anschließendem Gespräch mit Seenotretter Tarek Luft \n \nÜber den Film \nDer Dokumentarfilm nimmt die migrationspolitische Zäsur in Deutschland zum Ausgangspunkt einer eindringlichen Analyse. Er führt an die europäischen Außengrenzen\, begleitet Seenotrettungen im Mittelmeer\, dokumentiert humanitäre Notlagen und erzählt die Geschichten von Überlebenden\, die unter lebensgefährlichen Bedingungen ihren Weg nach Deutschland gefunden haben. Zugleich beleuchtet der Film die politischen und medialen Dynamiken\, die zu einer zunehmend polarisierten Debatte beitragen. Im Dialog mit Aktivistinnen\, Wissenschaftlerinnen und Publizist*innen hinterfragt er den gegenwärtigen Kurs und ruft dazu auf\, Alternativen zu denken. \nVeranstalter \nDer Verein gemeinsam.demokratisch.bunt e.V. \nOrt und Zeit \nTermin: Freitag\, 27. März 2026\, 19:00 Uhr \nOrt: Kleine Schlossberghalle\, Vogelanger 2\, 82319 Starnberg \nDer Eintritt ist frei.
URL:https://www.buergerbeteiligung-berg.de/veranstaltung/film-kein-land-fuer-niemand
LOCATION:Schloßberghalle Starnberg\, Vogelanger 2\, Starnberg\, 82319
CATEGORIES:AG Helferkreis Asyl und Integration
END:VEVENT
BEGIN:VEVENT
DTSTART;TZID=Europe/Berlin:20260327T170000
DTEND;TZID=Europe/Berlin:20260327T190000
DTSTAMP:20260424T182316
CREATED:20260322T110951Z
LAST-MODIFIED:20260322T110951Z
UID:19303-1774630800-1774638000@www.buergerbeteiligung-berg.de
SUMMARY:Berger Sprachcafé
DESCRIPTION:
URL:https://www.buergerbeteiligung-berg.de/veranstaltung/berger-sprachcafe-7
LOCATION:Wohnzentrum Etztal\, Perchastraße 11\, Berg\, 82335
CATEGORIES:AG Helferkreis Asyl und Integration
ORGANIZER;CN="Helferkreis Asyl und Integration Berg":MAILTO:kontakt@asyl-in-berg.de
END:VEVENT
BEGIN:VEVENT
DTSTART;TZID=Europe/Berlin:20260322T080000
DTEND;TZID=Europe/Berlin:20260322T180000
DTSTAMP:20260424T182316
CREATED:20260310T140359Z
LAST-MODIFIED:20260311T140547Z
UID:19252-1774166400-1774202400@www.buergerbeteiligung-berg.de
SUMMARY:Wahl des Bürgermeisters
DESCRIPTION:mehr als eine Bürgerbeteiliung …. \nDie Stichwahl um das Amt des Bürgermeisters. Die Wahllokale sind geöffnet von 8:00 bis 18:00
URL:https://www.buergerbeteiligung-berg.de/veranstaltung/wahl-des-buergermeisters
LOCATION:Rathaus Berg\, Huberfeld 10\, Berg\, 82335
END:VEVENT
BEGIN:VEVENT
DTSTART;TZID=Europe/Berlin:20260320T170000
DTEND;TZID=Europe/Berlin:20260320T190000
DTSTAMP:20260424T182316
CREATED:20260302T084930Z
LAST-MODIFIED:20260302T085005Z
UID:19057-1774026000-1774033200@www.buergerbeteiligung-berg.de
SUMMARY:Berger Sprachcafé
DESCRIPTION:
URL:https://www.buergerbeteiligung-berg.de/veranstaltung/berger-sprachcafe-5
LOCATION:Wohnzentrum Etztal\, Perchastraße 11\, Berg\, 82335
CATEGORIES:AG Helferkreis Asyl und Integration
ORGANIZER;CN="Helferkreis Asyl und Integration Berg":MAILTO:kontakt@asyl-in-berg.de
END:VEVENT
BEGIN:VEVENT
DTSTART;TZID=Europe/Berlin:20260319T190000
DTEND;TZID=Europe/Berlin:20260319T210000
DTSTAMP:20260424T182316
CREATED:20260218T090038Z
LAST-MODIFIED:20260312T090720Z
UID:17881-1773946800-1773954000@www.buergerbeteiligung-berg.de
SUMMARY:BBB Treffen für Mitglieder und Interessierte
DESCRIPTION:wir möchten euch herzlich zu unserem nächsten Mitgliedertreffen einladen: \nam Don 19.03.2026 um 19:00 Uhrim neuen Rathaus am Kreisel \nTagesordnung\, weitere Themen werden gerne besprochen: \n\n\nVerabschiedung Sebastiana\nAllgemeine Themen\n\nMitgliederversammlung\nVersicherung für den Verein BBB\n\n\nNeues vom Bücherschrank\nAktualisierung Webseite (Übernahme der Inhalte von Helferkreis-Webseite)\nNeues aus den Arbeitsgruppen: Helferkreis\, Solar\, Radfahren inkl. Stadtradeln?\, Energie\,\nAktuelle Themen zur Diskussion: Zwischennutzung des alten Rathauses\n\n\n  \nSelbstverständlich sind auch Nicht-Mitglieder herzlich eingeladen\, die Interesse an der BBB haben.
URL:https://www.buergerbeteiligung-berg.de/veranstaltung/bbb-mitgliedertreffen-2
LOCATION:Rathaus Berg\, Huberfeld 10\, Berg\, 82335
ORGANIZER;CN="B%C3%BCrgerbeteiligung Berg":MAILTO:kontakt@bb-berg.de
END:VEVENT
BEGIN:VEVENT
DTSTART;TZID=Europe/Berlin:20260313T170000
DTEND;TZID=Europe/Berlin:20260313T190000
DTSTAMP:20260424T182316
CREATED:20260302T084812Z
LAST-MODIFIED:20260302T084837Z
UID:19055-1773421200-1773428400@www.buergerbeteiligung-berg.de
SUMMARY:Berger Sprachcafé
DESCRIPTION:
URL:https://www.buergerbeteiligung-berg.de/veranstaltung/berger-sprachcafe-4
LOCATION:Wohnzentrum Etztal\, Perchastraße 11\, Berg\, 82335
CATEGORIES:AG Helferkreis Asyl und Integration
ORGANIZER;CN="Helferkreis Asyl und Integration Berg":MAILTO:kontakt@asyl-in-berg.de
END:VEVENT
BEGIN:VEVENT
DTSTART;TZID=Europe/Berlin:20260308T080000
DTEND;TZID=Europe/Berlin:20260308T180000
DTSTAMP:20260424T182316
CREATED:20260128T070053Z
LAST-MODIFIED:20260128T085926Z
UID:17713-1772956800-1772992800@www.buergerbeteiligung-berg.de
SUMMARY:Wahl des Gemeinderates und des Bürgermeisters
DESCRIPTION:mehr als eine Bürgerbeteiliung …. \nDie Wahl für den Gemeinderat und den Bürgermeister. Die Wahllokale sind geöffnet von 8:00 bis 18:00
URL:https://www.buergerbeteiligung-berg.de/veranstaltung/wahl-des-gemeinderates-und-des-buergermeisters
LOCATION:Rathaus Berg\, Huberfeld 10\, Berg\, 82335
END:VEVENT
BEGIN:VEVENT
DTSTART;TZID=Europe/Berlin:20260306T170000
DTEND;TZID=Europe/Berlin:20260306T190000
DTSTAMP:20260424T182316
CREATED:20260221T090029Z
LAST-MODIFIED:20260221T095847Z
UID:18337-1772816400-1772823600@www.buergerbeteiligung-berg.de
SUMMARY:Berger Sprachcafé
DESCRIPTION:
URL:https://www.buergerbeteiligung-berg.de/veranstaltung/berger-sprachcafe-3
LOCATION:Wohnzentrum Etztal\, Perchastraße 11\, Berg\, 82335
CATEGORIES:AG Helferkreis Asyl und Integration
ORGANIZER;CN="Helferkreis Asyl und Integration Berg":MAILTO:kontakt@asyl-in-berg.de
END:VEVENT
BEGIN:VEVENT
DTSTART;TZID=Europe/Berlin:20260227T170000
DTEND;TZID=Europe/Berlin:20260227T190000
DTSTAMP:20260424T182316
CREATED:20260220T080046Z
LAST-MODIFIED:20260220T091753Z
UID:18179-1772211600-1772218800@www.buergerbeteiligung-berg.de
SUMMARY:Berger Sprachcafé
DESCRIPTION:
URL:https://www.buergerbeteiligung-berg.de/veranstaltung/berger-sprachcafe-2
LOCATION:Wohnzentrum Etztal\, Perchastraße 11\, Berg\, 82335
CATEGORIES:AG Helferkreis Asyl und Integration
ORGANIZER;CN="Helferkreis Asyl und Integration Berg":MAILTO:kontakt@asyl-in-berg.de
END:VEVENT
BEGIN:VEVENT
DTSTART;TZID=Europe/Berlin:20260224T193000
DTEND;TZID=Europe/Berlin:20260224T203000
DTSTAMP:20260424T182316
CREATED:20260107T160336Z
LAST-MODIFIED:20260107T160336Z
UID:17688-1771961400-1771965000@www.buergerbeteiligung-berg.de
SUMMARY:Sitzung des Gemeinderates
DESCRIPTION:Sitzung – öffentlicher Teil
URL:https://www.buergerbeteiligung-berg.de/veranstaltung/sitzung-des-gemeinderates-17
LOCATION:Rathaus Berg\, Huberfeld 10\, Berg\, 82335
END:VEVENT
BEGIN:VEVENT
DTSTART;TZID=Europe/Berlin:20260220T170000
DTEND;TZID=Europe/Berlin:20260220T190000
DTSTAMP:20260424T182316
CREATED:20260220T090358Z
LAST-MODIFIED:20260220T090841Z
UID:18171-1771606800-1771614000@www.buergerbeteiligung-berg.de
SUMMARY:Berger Sprachcafé
DESCRIPTION:
URL:https://www.buergerbeteiligung-berg.de/veranstaltung/berger-sprachcafe
LOCATION:Wohnzentrum Etztal\, Perchastraße 11\, Berg\, 82335
CATEGORIES:AG Helferkreis Asyl und Integration
ORGANIZER;CN="Helferkreis Asyl und Integration Berg":MAILTO:kontakt@asyl-in-berg.de
END:VEVENT
BEGIN:VEVENT
DTSTART;TZID=Europe/Berlin:20260203T193000
DTEND;TZID=Europe/Berlin:20260203T203000
DTSTAMP:20260424T182316
CREATED:20250616T173046Z
LAST-MODIFIED:20260107T160123Z
UID:17351-1770147000-1770150600@www.buergerbeteiligung-berg.de
SUMMARY:Sitzung des Gemeinderates
DESCRIPTION:Sitzung – öffentlicher Teil
URL:https://www.buergerbeteiligung-berg.de/veranstaltung/sitzung-des-gemeinderates-14
LOCATION:Rathaus Berg\, Huberfeld 10\, Berg\, 82335
END:VEVENT
BEGIN:VEVENT
DTSTART;TZID=Europe/Berlin:20260113T193000
DTEND;TZID=Europe/Berlin:20260113T203000
DTSTAMP:20260424T182316
CREATED:20260107T160153Z
LAST-MODIFIED:20260107T160153Z
UID:17686-1768332600-1768336200@www.buergerbeteiligung-berg.de
SUMMARY:Sitzung des Gemeinderates
DESCRIPTION:Sitzung – öffentlicher Teil
URL:https://www.buergerbeteiligung-berg.de/veranstaltung/sitzung-des-gemeinderates-15
LOCATION:Rathaus Berg\, Huberfeld 10\, Berg\, 82335
END:VEVENT
BEGIN:VEVENT
DTSTART;TZID=Europe/Berlin:20251216T193000
DTEND;TZID=Europe/Berlin:20251216T213000
DTSTAMP:20260424T182316
CREATED:20260107T155036Z
LAST-MODIFIED:20260107T160319Z
UID:17682-1765913400-1765920600@www.buergerbeteiligung-berg.de
SUMMARY:Sitzung des Gemeinderates
DESCRIPTION:Sitzung – öffentlicher Teil
URL:https://www.buergerbeteiligung-berg.de/veranstaltung/sitzung-des-gemeinderates-16
LOCATION:Rathaus Berg\, Huberfeld 10\, Berg\, 82335
END:VEVENT
BEGIN:VEVENT
DTSTART;TZID=Europe/Berlin:20251126T193000
DTEND;TZID=Europe/Berlin:20251126T213000
DTSTAMP:20260424T182316
CREATED:20251107T130609Z
LAST-MODIFIED:20251107T130609Z
UID:17516-1764185400-1764192600@www.buergerbeteiligung-berg.de
SUMMARY:BBB Mitgliedertreffen
DESCRIPTION:wir möchten euch herzlich zu unserem nächsten Mitgliedertreffen einladen: \nam 26.11.2025 um 19:30 Uhrim Strandhotel in der Seestube \nDie Seestube ist ab 19:00 Uhr reserviert\, sodass diejenigen\, die Hunger haben\, davor noch eine Kleinigkeit essen können. \n  \nWir haben ein paar neue Ideen\, über die wir mit euch sprechen möchten\, und freuen uns auf Neuigkeiten aus den Arbeitsgruppen. \n  \nSelbstverständlich sind auch Nicht-Mitglieder herzlich eingeladen\, die Interesse an der BBB haben.
URL:https://www.buergerbeteiligung-berg.de/veranstaltung/bbb-mitgliedertreffen
LOCATION:Strandhotel Berg
ORGANIZER;CN="B%C3%BCrgerbeteiligung Berg":MAILTO:kontakt@bb-berg.de
END:VEVENT
BEGIN:VEVENT
DTSTART;TZID=Europe/Berlin:20251125T193000
DTEND;TZID=Europe/Berlin:20251125T213000
DTSTAMP:20260424T182316
CREATED:20250610T173032Z
LAST-MODIFIED:20250625T201015Z
UID:17349-1764099000-1764106200@www.buergerbeteiligung-berg.de
SUMMARY:Sitzung des Gemeinderates
DESCRIPTION:Sitzung – öffentlicher Teil
URL:https://www.buergerbeteiligung-berg.de/veranstaltung/sitzung-des-gemeinderates-13
LOCATION:Rathaus Berg\, Huberfeld 10\, Berg\, 82335
END:VEVENT
BEGIN:VEVENT
DTSTART;TZID=Europe/Berlin:20251118T193000
DTEND;TZID=Europe/Berlin:20251118T213000
DTSTAMP:20260424T182316
CREATED:20250618T173021Z
LAST-MODIFIED:20250625T200912Z
UID:17347-1763494200-1763501400@www.buergerbeteiligung-berg.de
SUMMARY:Sitzung des Gemeinderates
DESCRIPTION:Sitzung – öffentlicher Teil
URL:https://www.buergerbeteiligung-berg.de/veranstaltung/sitzung-des-gemeinderates-12
LOCATION:Rathaus Berg\, Huberfeld 10\, Berg\, 82335
END:VEVENT
BEGIN:VEVENT
DTSTART;TZID=Europe/Berlin:20251109T130000
DTEND;TZID=Europe/Berlin:20251109T150000
DTSTAMP:20260424T182316
CREATED:20251108T070019Z
LAST-MODIFIED:20251108T113332Z
UID:17518-1762693200-1762700400@www.buergerbeteiligung-berg.de
SUMMARY:Wandern rund um Farchach
DESCRIPTION:Die AG Gemeinsames\, aktives Dorfleben empfiehlt diese Wanderung: \n  \nLiebe Freunde von BergSpektiven\, November – der Nebel zieht auf. Ob in der Natur oder im Kopf. Letzteres lässt sich vermeiden. Durch Bewegung in frischer Luft. Dabei in Gemeinschaft Naturschönheiten erleben und gute Geschichten hören. Die Natur beginnt jetzt\, sich zurückzuziehen und zu regenerieren. Davon können wir Menschen lernen. Wer glaubt\, diesen natürlichen Rhythmus überlisten zu können\, riskiert\, wie eingangs erwähnt\, den Geist zu vernebeln. Unser Vorschlag: Wandern Sie mit uns rund um Farchach. Das ist ein Ortsteil der Gemeinde Berg\, in dem noch gedeiht\, was im Speckgürtel von München meist schon verschwunden ist: eine intakte Naturumgebung und ein öffentlicher Raum\, in dem noch gegrüßt\, gelebt und gearbeitet wird. Wir starten am Sonntag\, den 09.11.2025 um 13.00 Uhr in 82335 Berg\, Ortsteil Farchach am Parkplatz des Sportgeländes vom MTV Berg/Tennis\, Jägerberg 20 und enden ca. 15.00 Uhr bei der Schreinerei Pfisterer\, ebenfalls Berg/Farchach\, Nikolausstr. 4. Übrigens. Sie können die Pfisterers nach unserer Tour besuchen\, die zum Tag des Schreiners eingeladen haben. Unsere BergSpektiven Exkursion ist wie immer kostenlos\, Spenden werden gern gesehen. Bitte anmelden unter ck@bergspektiven.de oder 0170/8501875. Die Teilnehmerzahl ist auf 20 begrenzt. Klub der 100 Mitglieder erhalten bei Überbuchung Vorrang. Bis bald Euer Christian Kalinke Gründer von BergSpektiven Christian KalinkeHälsbachweg 982335 BergTel. 0170 / 8501875 ck@bergspektiven.dewww.bergspektiven.de
URL:https://www.buergerbeteiligung-berg.de/veranstaltung/wandern-rund-um-farchach
LOCATION:Farchach
CATEGORIES:AG Gemeinsames, aktives Dorfleben
END:VEVENT
BEGIN:VEVENT
DTSTART;TZID=Europe/Berlin:20251028T193000
DTEND;TZID=Europe/Berlin:20251028T213000
DTSTAMP:20260424T182316
CREATED:20250610T173055Z
LAST-MODIFIED:20250625T200637Z
UID:17343-1761679800-1761687000@www.buergerbeteiligung-berg.de
SUMMARY:Sitzung des Gemeinderates
DESCRIPTION:Sitzung – öffentlicher Teil
URL:https://www.buergerbeteiligung-berg.de/veranstaltung/sitzung-des-gemeinderates-11
LOCATION:Rathaus Berg\, Huberfeld 10\, Berg\, 82335
END:VEVENT
BEGIN:VEVENT
DTSTART;VALUE=DATE:20251022
DTEND;VALUE=DATE:20251115
DTSTAMP:20260424T182316
CREATED:20251001T164655Z
LAST-MODIFIED:20251016T170443Z
UID:17473-1761091200-1763164799@www.buergerbeteiligung-berg.de
SUMMARY:Ausstellung: Lebensraum naturnaher Garten
DESCRIPTION:Die Arbeitsgruppe Artenschutz & Blühflächen empfiehlt folgende Ausstellung: \n„Lebensraum naturnaher Garten“ \n \nVom eintönigen Rasen zur bunten\, insektenreichen BlumenwieseDie Ausstellung „Lebensraum naturnaher Garten“ des BUND Naturschutz zeigt auf sechs Roll-Up Plakaten mit vielen schönen Fotos eindrucksvoll\, wie nicht nur Schmetterlinge\, Bienen und weitere Insekten\, sondern auch Tiere wie Vögel und Igel von mehr Natur im Garten profitieren.Gerade in Zeiten des dramatischen Arten- und Insektensterbens macht jedes zusätzliche Fleckchen Natur einen großen Unterschied und schenkt Wildbienen\, Schmetterlingen und anderen Tieren Lebensraum mit gutem Futterangebot. Auch für uns Menschen sind solche blütenreichen Natur-Oasen ein Gewinn\, denn sie bieten eine schöne Augenweide.Ganz gleich\, ob man zuhause einen Garten hat oder einen Balkon\, die Ausstellung zeigt viele leicht umsetzbare Anregungen.  Lassen auch Sie sich von den Beispielen und den vielen Pflanzen- und Tierbildern dieser Ausstellung inspirieren und motivieren.Die Ausstellung kann vom 22. Oktober bis 14. November 2025 kostenfrei in der Gemeindebücherei Berg\, Marienstraße 9\, Aufkirchen\, zu den üblichen Öffnungszeiten besucht werden.\n\n \n \nVeranstalter:  BUND Naturschutz\, Ortsgruppe Berg\n \n\n\n \n \n \n \n \n \n \n \n \n \n \n \n \n \n \n \n \n \n \n \n \n \n \n \n \nalle Fotos mit freundlicher Genehmigung der Veranstalter\n 
URL:https://www.buergerbeteiligung-berg.de/veranstaltung/ausstellung-lebensraum-naturnaher-garten
LOCATION:Gemeindebücherei Aufkirchen\, Marienstraße 9\, Aufkirchen
CATEGORIES:AG Artenschutz & Blühflächen
ATTACH;FMTTYPE=image/jpeg:https://www.buergerbeteiligung-berg.de/wp-content/uploads/2025/10/Lacerta-agilis.jpeg
END:VEVENT
BEGIN:VEVENT
DTSTART;TZID=Europe/Berlin:20251021T180000
DTEND;TZID=Europe/Berlin:20251021T190000
DTSTAMP:20260424T182316
CREATED:20250610T160006Z
LAST-MODIFIED:20250625T200751Z
UID:17345-1761069600-1761073200@www.buergerbeteiligung-berg.de
SUMMARY:Ausschuss für nachhaltige Entwicklung
DESCRIPTION:Sitzung – öffentlicher Teil
URL:https://www.buergerbeteiligung-berg.de/veranstaltung/ausschuss-fuer-nachhaltige-entwicklung-2
LOCATION:Rathaus Berg\, Huberfeld 10\, Berg\, 82335
END:VEVENT
BEGIN:VEVENT
DTSTART;TZID=Europe/Berlin:20251007T193000
DTEND;TZID=Europe/Berlin:20251007T213000
DTSTAMP:20260424T182316
CREATED:20250607T173032Z
LAST-MODIFIED:20250625T200514Z
UID:17341-1759865400-1759872600@www.buergerbeteiligung-berg.de
SUMMARY:Sitzung des Gemeinderates
DESCRIPTION:Sitzung – öffentlicher Teil
URL:https://www.buergerbeteiligung-berg.de/veranstaltung/sitzung-des-gemeinderates-10
LOCATION:Rathaus Berg\, Huberfeld 10\, Berg\, 82335
END:VEVENT
BEGIN:VEVENT
DTSTART;TZID=Europe/Berlin:20251001T133000
DTEND;TZID=Europe/Berlin:20251001T170000
DTSTAMP:20260424T182316
CREATED:20250920T060010Z
LAST-MODIFIED:20250920T062958Z
UID:17466-1759325400-1759338000@www.buergerbeteiligung-berg.de
SUMMARY:Dorfspaziergang Assenhausen
DESCRIPTION:Hallo zusammen\, ich hoffe\, ihr genießt dieses schöne Herbstwetter! 🌞🍁Christian hat den nächsten Dorfspaziergang geplant. \nHier sind die Details:Termin: Mittwoch\, 1.10.25 Start: 13.30\, Parkplatz Bismarckturm Thema: Assenhausen (Historie\, Sehenswertes\, Geschichten\, usw.) \nFührung Rottmannshöhe (ehemaliges Hotel und jetzige psychiatrische Klinik für Kinder und Jugendliche)Ausklang mit Brotzeit im legendären Wald-Café. \nBitte bis 26.9. anmelden inklusive Wald-Café Teilnahme. \nAnmelden bei mir ck@bergspektiven.de oder 01708501875 \nHoffentlich kannst du dabei sein! \n\n \n\n \n 
URL:https://www.buergerbeteiligung-berg.de/veranstaltung/dorfspaziergang-assenhausen
LOCATION:Zwischen Berg und Münsing\, Bismarckturm (Berg-Assenhausen)\, Berg-Assenhausen\, Bayern\, 82335\, Deutschland
END:VEVENT
BEGIN:VEVENT
DTSTART;TZID=Europe/Berlin:20250926T160000
DTEND;TZID=Europe/Berlin:20250926T210000
DTSTAMP:20260424T182316
CREATED:20250707T070046Z
LAST-MODIFIED:20250707T190908Z
UID:17410-1758902400-1758920400@www.buergerbeteiligung-berg.de
SUMMARY:6 Jahre neues Naturschutzgesetz in Bayern
DESCRIPTION:Die Arbeitsgruppe Artenschutz & Blühflächen empfiehlt folgende Veranstaltung: \n„6 Jahre neues Naturschutzgesetz in Bayern –Was ist erreicht worden und was wartet noch auf Umsetzung?“\n \nmit den Initiatoren des Volksbegehrens „Rettet die Bienen“\n \nFreitag\, 26. September 2025\n\n– Exkursion zum Biotop ab 16.00 Uhr \n– Vortrag in der Schlossberghalle Starnberg um 19.00 Uhr \n \nVeranstalter: ÖDP\, LBV\, AbL\n \n\n 
URL:https://www.buergerbeteiligung-berg.de/veranstaltung/6-jahre-neues-naturschutzgesetz-in-bayern
LOCATION:Schloßberghalle Starnberg\, Vogelanger 2\, Starnberg\, 82319
CATEGORIES:AG Artenschutz & Blühflächen
END:VEVENT
END:VCALENDAR